BEGIN:VCALENDAR
VERSION:2.0
PRODID:-//eventon.com NONSGML v1.0//EN
BEGIN:VEVENT
UID:69e5b9caf3558
DTSTAMP:20260420T012946
DTSTART:20220630T133000Z
DTEND:20220701T035000Z
LOCATION:Elk River Wildlife Management Area\,  Sutton\,  WV 
SUMMARY:Tree Felling Safety and Personal Safety Equipment Workshop
DESCRIPTION: ALL CLASSES WILL START AT 9:30 AM * Please Dress appropriately for the weather. HARD HATS AND BOOTS REQUIRED Bring your own writing utensil (pen or pencil) Please bring identification (Photo ID preferred) CONTACT THE CHARLESTON OFFICE 304-558-2788 TO REGISTER FOR CLASS DIRECTIONS: TO ELK RIVER WILDLIFE MANAGEMENT AREA TAKE[..]
END:VEVENT
END:VCALENDAR