BEGIN:VCALENDAR
VERSION:2.0
PRODID:-//eventon.com NONSGML v1.0//EN
BEGIN:VEVENT
UID:69ebd90d439a2
DTSTAMP:20260424T165645
DTSTART:20220608T120000Z
DTEND:20220609T035000Z
LOCATION:Farmington Community Building 
SUMMARY:Best Management Practices Workshop
DESCRIPTION: (This is also used for Recertification Training) CLASS LOCATIONS SUBJECT TO CHANGE Online training is available for recertification only. You must take the Best Management Practices (2 hours) as well as classes that will equal to 6 hours. Use the link below to see trainings. https://ahc.wvu.edu/online-logger-training CLASSES SUBJECT TO CHANGE[..]
END:VEVENT
END:VCALENDAR