BEGIN:VCALENDAR
VERSION:2.0
PRODID:-//eventon.com NONSGML v1.0//EN
BEGIN:VEVENT
UID:69e9f6ea3128f
DTSTAMP:20260423T063938
DTSTART:20230126T133000Z
DTEND:20230127T035000Z
LOCATION:Elk River Wildlife Management Area\,  Sutton\,  WV 
SUMMARY:TREE FELLING SAFETY AND PERSONAL SAFETY EQUIPMENT WORKSHOP
DESCRIPTION: Class title: TREE FELLING SAFETY AND PERSONAL SAFETY EQUIPMENT WORKSHOP Time: 9:30 a.m. Location: ELK RIVER WILDLIFE MANAGEMENT AREA Event Details: ALL CLASSES WILL START AT 9:30 AM * Please Dress appropriately for the weather. HARD HATS AND BOOTS REQUIRED MASKS REQUIRED ATTENDEES PLEASE BRING YOUR OWN Bring your own[..]
END:VEVENT
END:VCALENDAR