BEGIN:VCALENDAR
VERSION:2.0
PRODID:-//eventon.com NONSGML v1.0//EN
BEGIN:VEVENT
UID:69e88eff848cc
DTSTAMP:20260422T050359
DTSTART:20230614T120000Z
DTEND:20230615T035000Z
LOCATION:Farmington Community Building 
SUMMARY:Best Management Practices Workshop
DESCRIPTION: CLASS LOCATIONS SUBJECT TO CHANGE CONTACT: FARMINGTON 304-825-6983 THIS CLASS CAN BE USED FOR RECERTIFICATION Online training is available for recertification only. You must take the Best Management Practices (2 hours) plus four hours of other classes that will equal to 6 hours. Use the link below to see trainings.[..]
END:VEVENT
END:VCALENDAR