BEGIN:VCALENDAR
VERSION:2.0
PRODID:-//eventon.com NONSGML v1.0//EN
BEGIN:VEVENT
UID:69eb40f64cd9e
DTSTAMP:20260424T060750
DTSTART:20240510T120000Z
DTEND:20240511T035000Z
LOCATION:Princeton High School Track 
SUMMARY:Pack test for Western Fire Crew duty
DESCRIPTION: May 10\,  2024 at 0800 Princeton High School track. Contact the Region 4 - Beckley Office at 304-256-6775 to register. Everyone needs to bring their own 45 pound pack\,  two forms of ID\,  and anyone planning on going out as an AD needs to bring S130 and S190 certificates.
END:VEVENT
END:VCALENDAR