BEGIN:VCALENDAR
VERSION:2.0
PRODID:-//eventon.com NONSGML v1.0//EN
BEGIN:VEVENT
UID:69e75d436f0e0
DTSTAMP:20260421T071931
DTSTART:20260507T120000Z
DTEND:20260508T035000Z
LOCATION:Sutton - Elk Conservation District Office 
SUMMARY:Best Management Practices Workshop
DESCRIPTION: (This is also used for Recertification Training) CLASS LOCATIONS SUBJECT TO CHANGE CONTACT: BUCKHANNON 304-439-3003 FOR RECERTIFICATION ONLY Online training is also available. You must take the Best Management Practices (2 hours) as well as classes that will equal to 6 hours. Use the link below to see trainings. https://loggertraining.com
END:VEVENT
END:VCALENDAR